BEGIN:VCALENDAR
VERSION:2.0
PRODID:-//El Castillo de Sancti Petri - ECPv6.15.17.1//NONSGML v1.0//EN
CALSCALE:GREGORIAN
METHOD:PUBLISH
X-ORIGINAL-URL:https://elcastillodesanctipetri.com
X-WR-CALDESC:Eventos para El Castillo de Sancti Petri
REFRESH-INTERVAL;VALUE=DURATION:PT1H
X-Robots-Tag:noindex
X-PUBLISHED-TTL:PT1H
BEGIN:VTIMEZONE
TZID:Europe/Madrid
BEGIN:DAYLIGHT
TZOFFSETFROM:+0100
TZOFFSETTO:+0200
TZNAME:CEST
DTSTART:20250330T010000
END:DAYLIGHT
BEGIN:STANDARD
TZOFFSETFROM:+0200
TZOFFSETTO:+0100
TZNAME:CET
DTSTART:20251026T010000
END:STANDARD
BEGIN:DAYLIGHT
TZOFFSETFROM:+0100
TZOFFSETTO:+0200
TZNAME:CEST
DTSTART:20260329T010000
END:DAYLIGHT
BEGIN:STANDARD
TZOFFSETFROM:+0200
TZOFFSETTO:+0100
TZNAME:CET
DTSTART:20261025T010000
END:STANDARD
BEGIN:DAYLIGHT
TZOFFSETFROM:+0100
TZOFFSETTO:+0200
TZNAME:CEST
DTSTART:20270328T010000
END:DAYLIGHT
BEGIN:STANDARD
TZOFFSETFROM:+0200
TZOFFSETTO:+0100
TZNAME:CET
DTSTART:20271031T010000
END:STANDARD
END:VTIMEZONE
BEGIN:VEVENT
DTSTART;TZID=Europe/Madrid:20260704T110000
DTEND;TZID=Europe/Madrid:20260704T140000
DTSTAMP:20260422T110315
CREATED:20260217T113455Z
LAST-MODIFIED:20260217T113455Z
UID:776-1783162800-1783173600@elcastillodesanctipetri.com
SUMMARY:RUTA GUIADA EN KAYAK
DESCRIPTION:Ruta guiada en Kayak al Castillo de Sancti Petri \nRutas guiadas desde el Puerto Deportivo de Sancti Petri hasta el Castillo de Sancti Petri en kayak. \nDisfruta de una experiencia única de aproximadamente 3 horas de duración\, con dificultad baja\, ideal para todos los niveles. \nIncluye: \nKayak \nChaleco salvavidas \nPalas \nMonitor durante todo el trayecto \nEntrada completa al Castillo de Sancti Petri
URL:https://elcastillodesanctipetri.com/event/ruta-guiada-en-kayak-20/
LOCATION:Cádiz
CATEGORIES:Kayak
ATTACH;FMTTYPE=image/webp:https://elcastillodesanctipetri.com/wp-content/uploads/2026/01/castillo6.webp
END:VEVENT
BEGIN:VEVENT
DTSTART;TZID=Europe/Madrid:20260704T190000
DTEND;TZID=Europe/Madrid:20260704T220000
DTSTAMP:20260422T110315
CREATED:20260218T134112Z
LAST-MODIFIED:20260312T094855Z
UID:931-1783191600-1783202400@elcastillodesanctipetri.com
SUMMARY:✨Magia sobre las olas: Joel de Cuba en Sancti Petri 🌊
DESCRIPTION:Déjate sorprender por el ilusionismo de Got Talent en un enclave de leyenda. \nEl próximo 4 de julio\, el Castillo de Sancti Petri se convierte en el escenario de lo imposible. Recibimos a Joel de Cuba\, el ilusionista que conquistó a toda España tras alzarse como ganador de Got Talent. \nSu espectáculo es mucho más que trucos; es una mezcla de técnica impecable\, carisma caribeño y una conexión total con el espectador. En esta ocasión\, Joel traslada su asombro al corazón del mar\, donde la historia de nuestras murallas y la luz del atardecer crearán la atmósfera perfecta para una noche donde lo imposible se vuelve realidad. \n🎶 Ambiente con DJ: La velada estará acompañada por la música de nuestro DJ\, creando el clima ideal para disfrutar de las vistas y la brisa marina antes y después del show. \n  \n Vive una experiencia completa desde que zarpa el barco hasta el regreso bajo las estrellas: \n19:00 h: 🚢 Salida del barco (Puerto Deportivo de Sancti Petri). Imprescindible estar en taquilla 30 min. antes.\n🏰 Visita guiada y puesta de sol: Disfruta de la historia del Castillo y de una puesta de sol única desde nuestra terraza exclusiva.\n20:30 h: 🎩 Actuación de Joel de Cuba.\n22:00 h: ⏳ Regreso en barco. \n  \n ¿Qué incluye tu entrada? \n\nTravesía en barco (ida y vuelta).\nVisita guiada por la zona museística del Castillo.\nUna consumición (refresco\, cerveza o vino).\nEspectáculo exclusivo de Joel de Cuba.\nSesión de DJ\nPuesta de sol en un enclave mágico en medio del mar.\n\n  \nEs imprescindible pasar por taquilla al menos 30 minutos antes de la salida para recoger la pulsera de acceso y garantizar el embarque. \nNo está permitido acceder con comida ni bebida del exterior. \nAl encontrarnos en pleno entorno del Parque Natural Bahía de Cádiz\, y con el fin de proteger la fauna y el ecosistema\, no se permite el acceso con animales de compañía. 
URL:https://elcastillodesanctipetri.com/event/joel-de-cuba-en-sancti-petri/
LOCATION:Cádiz
CATEGORIES:Conciertos y Actuaciones
ATTACH;FMTTYPE=image/jpeg:https://elcastillodesanctipetri.com/wp-content/uploads/2026/02/WhatsApp-Image-2026-02-18-at-09.55.26-1.jpeg
END:VEVENT
END:VCALENDAR