BEGIN:VCALENDAR
VERSION:2.0
PRODID:-//El Castillo de Sancti Petri - ECPv6.15.17.1//NONSGML v1.0//EN
CALSCALE:GREGORIAN
METHOD:PUBLISH
X-ORIGINAL-URL:https://elcastillodesanctipetri.com
X-WR-CALDESC:Eventos para El Castillo de Sancti Petri
REFRESH-INTERVAL;VALUE=DURATION:PT1H
X-Robots-Tag:noindex
X-PUBLISHED-TTL:PT1H
BEGIN:VTIMEZONE
TZID:Europe/Madrid
BEGIN:DAYLIGHT
TZOFFSETFROM:+0100
TZOFFSETTO:+0200
TZNAME:CEST
DTSTART:20250330T010000
END:DAYLIGHT
BEGIN:STANDARD
TZOFFSETFROM:+0200
TZOFFSETTO:+0100
TZNAME:CET
DTSTART:20251026T010000
END:STANDARD
BEGIN:DAYLIGHT
TZOFFSETFROM:+0100
TZOFFSETTO:+0200
TZNAME:CEST
DTSTART:20260329T010000
END:DAYLIGHT
BEGIN:STANDARD
TZOFFSETFROM:+0200
TZOFFSETTO:+0100
TZNAME:CET
DTSTART:20261025T010000
END:STANDARD
BEGIN:DAYLIGHT
TZOFFSETFROM:+0100
TZOFFSETTO:+0200
TZNAME:CEST
DTSTART:20270328T010000
END:DAYLIGHT
BEGIN:STANDARD
TZOFFSETFROM:+0200
TZOFFSETTO:+0100
TZNAME:CET
DTSTART:20271031T010000
END:STANDARD
END:VTIMEZONE
BEGIN:VEVENT
DTSTART;TZID=Europe/Madrid:20260812T203000
DTEND;TZID=Europe/Madrid:20260812T220000
DTSTAMP:20260422T111335
CREATED:20260218T144401Z
LAST-MODIFIED:20260420T103400Z
UID:948-1786566600-1786572000@elcastillodesanctipetri.com
SUMMARY:🌑 Gran Eclipse Solar en el Parque Natural Bahía de Cádiz
DESCRIPTION:El 12 de agosto de 2026\, la naturaleza nos regala un espectáculo que pocas veces se ve en la vida: un Gran Eclipse Solar en el corazón del Parque Natural Bahía de Cádiz\, con la silueta del Castillo de Sancti Petri recortándose en un horizonte único. \nImagina estar a bordo de un barco\, rodeado de agua y cielo\, mientras el sol empieza a ser ocultado por la luna y la luz del día se transforma en un crepúsculo mágico y sobrenatural. La brisa marina acaricia tu rostro\, los sonidos del entorno se atenúan y todo parece contenerse en un instante de silencio reverente. A medida que el sol se desvanece tras la luna\, el mundo cambia: sombras y luces plateadas danzan sobre el agua\, los tonos del cielo se profundizan y la bahía se convierte en un lienzo de magia y misterio justo antes de la puesta de sol. \nCada segundo del eclipse es un momento para quedarse sin aliento. Cada mirada hacia el horizonte te recuerda la inmensidad del universo y la belleza única de la naturaleza que nos rodea. Una experiencia que no se olvida\, que se siente en la piel y en el corazón\, y que quedará para siempre en la memoria de quienes la vivan. \n  \n🕒 Horarios de la expedición (Exclusiva a bordo) \n20:30 h: 🚢 Salida del barco (Puerto Deportivo de Sancti Petri). Imprescindible estar en taquilla 30 min. antes. \nNavegación y Ocaso: 🌊 Travesía por el Parque Natural Bahía de Cádiz buscando la mejor perspectiva del fenómeno. \nEl Momento Cumbre: 🌑 Observación del Gran Eclipse Solar. Disfruta de la totalidad y la puesta de sol desde la cubierta\, con vistas panorámicas únicas al Castillo y al horizonte abierto. \n22:00 h: ⏳ Regreso al puerto bajo las primeras estrellas de la noche. \n  \n🎟️ ¿Qué incluye tu entrada? \n\nPaseo en barco (ida y vuelta) con navegación exclusiva durante el evento.\nObservación del Gran Eclipse Solar desde el mar.\nPuesta de sol panorámica sobre el Parque Natural Bahía de Cádiz.\nVistas privilegiadas de la fortaleza de Sancti Petri desde el agua.
URL:https://elcastillodesanctipetri.com/event/eclipse-total-en-el-parque-natural-bahia-de-cadiz/
CATEGORIES:Paseo en Catamarán
ATTACH;FMTTYPE=image/jpeg:https://elcastillodesanctipetri.com/wp-content/uploads/2026/02/Gran-Eclipse-Solar-P.-Natural-Cartel.jpeg
END:VEVENT
END:VCALENDAR